BEGIN:VCALENDAR
VERSION:2.0
PRODID:-//CDA College - ECPv5.12.2//NONSGML v1.0//EN
CALSCALE:GREGORIAN
METHOD:PUBLISH
X-WR-CALNAME:CDA College
X-ORIGINAL-URL:https://www.cdacollege.ac.cy
X-WR-CALDESC:Events for CDA College
REFRESH-INTERVAL;VALUE=DURATION:PT1H
X-Robots-Tag:noindex
X-PUBLISHED-TTL:PT1H
BEGIN:VTIMEZONE
TZID:UTC
BEGIN:STANDARD
TZOFFSETFROM:+0000
TZOFFSETTO:+0000
TZNAME:UTC
DTSTART:20210101T000000
END:STANDARD
END:VTIMEZONE
BEGIN:VEVENT
DTSTART;TZID=UTC:20211025T080000
DTEND;TZID=UTC:20211029T170000
DTSTAMP:20260423T071607
CREATED:20211214T094613Z
LAST-MODIFIED:20211214T094733Z
UID:10123-1635148800-1635526800@www.cdacollege.ac.cy
SUMMARY:3rd  LTTA of the Erasmus+ project ‘Social Entrepreneurship to fight Social Excursion (SENEET)'
DESCRIPTION:Τhe third #LLTA training under the “Social Entrepreneurship in the Fight against Youth Social Exclusion” – S. E. NEET project\, funded by the Erasmus+ program\, was held in Cyprus from 25 to 29 of October. It was attended by young people\, led by representatives of the project partners from Cyprus\, Greece\, Romania\, Lithuania\, and Business Incubator – Gotse Delchev Business Incubator – Gotse Delchev from Bulgaria. The hosts – C.D.A.College\, Nicosia provided all the necessary conditions to have a fruitful work\, observing strict anti-epidemic measures. During the five-day training\, the youth gained fundamental knowledge on how to start a new business\, how to transform an idea into a business\, financial management and the main steps needed for an entrepreneur to start own business.  Youth met local entrepreneurs who shared their experience and challenges in business. \n\nΤhe #SENEET team visited the Souzana Petri Crafts at Ermou Street in the old town of Nicosia.\n\n\nShe shared with us her experience on being a young entrepreneur and how she manages to balance between creativity and running a business.\n\nYiannis Hadjiconstantouras was the invited guest speaker at the 3rd LTTA of the Erasmus+ program “Social Entrepreneurship to battle Youth Social Exclusion”\, during which he shared his experience and knowledge on being a young entrepreneur\, the challenges that he has faced and the implementation of good practices in the field of entrepreneurship. \nFollowing the guidance of their leaders the mixed groups of participants designed their own logo and company name\, and “started” their own online business. A one-day visit to Lefkara\, a beautiful and picturesque village known for its handmade local lace\, known as “lefkarita” and its silverware was organized for all participants. At the end of the meeting there were presented the results of the work in the groups and the participants received certificates. They went home with new useful knowledge\, nice memories and interesting acquaintances.
URL:https://www.cdacollege.ac.cy/event/3rd-ltta-of-the-erasmus-project-social-entrepreneurship-to-fight-social-excursion-seneet/
LOCATION:CDA Nicosia Campus\, 2\, Evagorou Ave. Eleftherias Square\, P.O.Box 21972\, CY-1515.\, Nicosia\, Cyprus
END:VEVENT
END:VCALENDAR