BEGIN:VCALENDAR
VERSION:2.0
PRODID:-//CDA College - ECPv5.12.2//NONSGML v1.0//EN
CALSCALE:GREGORIAN
METHOD:PUBLISH
X-WR-CALNAME:CDA College
X-ORIGINAL-URL:https://www.cdacollege.ac.cy
X-WR-CALDESC:Events for CDA College
REFRESH-INTERVAL;VALUE=DURATION:PT1H
X-Robots-Tag:noindex
X-PUBLISHED-TTL:PT1H
BEGIN:VTIMEZONE
TZID:Europe/Helsinki
BEGIN:DAYLIGHT
TZOFFSETFROM:+0200
TZOFFSETTO:+0300
TZNAME:EEST
DTSTART:20220327T010000
END:DAYLIGHT
BEGIN:STANDARD
TZOFFSETFROM:+0300
TZOFFSETTO:+0200
TZNAME:EET
DTSTART:20221030T010000
END:STANDARD
END:VTIMEZONE
BEGIN:VEVENT
DTSTART;TZID=Europe/Helsinki:20221027T190000
DTEND;TZID=Europe/Helsinki:20221027T220000
DTSTAMP:20260421T195915
CREATED:20221021T093456Z
LAST-MODIFIED:20221021T093519Z
UID:12627-1666897200-1666908000@www.cdacollege.ac.cy
SUMMARY:Pafos Students' Welcome Party
DESCRIPTION:Student Union of CDA College Pafos invites you to the Students Welcome Party on 27th of October 2022 at 19:00-22:00 at SnackBox Cafe to the College. Live Music by Lazaros Hadjiantonis. We look forward to seeing you there!
URL:https://www.cdacollege.ac.cy/event/pafos-students-welcome-party/
LOCATION:CDA Paphos Campus\, Democratias Anenue 73\, CY 8028\, Paphos\, Cyprus
CATEGORIES:entertainment
END:VEVENT
BEGIN:VEVENT
DTSTART;TZID=Europe/Helsinki:20221031T100000
DTEND;TZID=Europe/Helsinki:20221031T100000
DTSTAMP:20260421T195915
CREATED:20221027T110006Z
LAST-MODIFIED:20221027T110007Z
UID:12658-1667210400-1667210400@www.cdacollege.ac.cy
SUMMARY:INTERNATIONAL STUDENTS' ORIENTATION DAY
DESCRIPTION:Welcoming our new International students!
URL:https://www.cdacollege.ac.cy/event/international-students-orientation-day/
LOCATION:CDA Nicosia Campus\, 2\, Evagorou Ave. Eleftherias Square\, P.O.Box 21972\, CY-1515.\, Nicosia\, Cyprus
CATEGORIES:Orientation
ATTACH;FMTTYPE=image/png:https://www.cdacollege.ac.cy/cda_uploads/2022/10/ORIENTATION-DAY.png
END:VEVENT
END:VCALENDAR