BEGIN:VCALENDAR
VERSION:2.0
PRODID:-//CDA College - ECPv5.12.2//NONSGML v1.0//EN
CALSCALE:GREGORIAN
METHOD:PUBLISH
X-WR-CALNAME:CDA College
X-ORIGINAL-URL:https://www.cdacollege.ac.cy
X-WR-CALDESC:Events for CDA College
REFRESH-INTERVAL;VALUE=DURATION:PT1H
X-Robots-Tag:noindex
X-PUBLISHED-TTL:PT1H
BEGIN:VTIMEZONE
TZID:Europe/Helsinki
BEGIN:DAYLIGHT
TZOFFSETFROM:+0200
TZOFFSETTO:+0300
TZNAME:EEST
DTSTART:20220327T010000
END:DAYLIGHT
BEGIN:STANDARD
TZOFFSETFROM:+0300
TZOFFSETTO:+0200
TZNAME:EET
DTSTART:20221030T010000
END:STANDARD
END:VTIMEZONE
BEGIN:VEVENT
DTSTART;TZID=Europe/Helsinki:20220922T060000
DTEND;TZID=Europe/Helsinki:20220922T200000
DTSTAMP:20260421T214303
CREATED:20221014T123022Z
LAST-MODIFIED:20221014T123022Z
UID:12606-1663826400-1663876800@www.cdacollege.ac.cy
SUMMARY:1η Ακαδημαϊκή Συνάντηση του κεντρικού παραρτήματος του Κολεγίου CDA  Λευκωσίας
DESCRIPTION:1η Ακαδημαϊκή Συνάντηση για το έτος 2022-2023 στο κεντρικό παράρτημα της Λευκωσίας\n\n\nΣτις 22/9 πραγματοποιήθηκε η 1η Ακαδημαϊκή Συνάντηση του κεντρικού παραρτήματος του Κολεγίου CDA στην πόλη της Λευκωσίας για το Ακαδημαϊκό Έτος 2022-2023.\nΗ συνάντηση έλαβε χώρα στην καφετέρια του κτηρίου και όλοι οι καθηγητές βρέθηκαν κοντά μας. Η Διευθύντρια του κεντρικού παραρτήματος κα Κατερίνα Κυριακίδου και η Διευθύντρια Διεθνών Σχέσεων κα Αθηνά Κολιανδρή παρουσίασαν τους καινούργιους καθηγητές\, που μεγαλώνουν και δυναμώνουν ακόμη περισσότερο την ομάδα του Κολεγίου. Επίσης\, συζητήθηκαν οι αλλαγές που πραγματοποιήθηκαν στην ηλεκτρονική πλατφόρμα εκπαίδευσης των φοιτητών (Moodle) για την καλύτερη λειτουργία της. Τέλος\, αναφέρθηκαν τρόποι ενθάρρυνσης των φοιτητών για συμμετοχή σε εθελοντικές δράσεις του ιδρύματος\, καθώς και σε δρώμενα της πόλης.\nΕίμαστε έτοιμοι να σας υποδεχτούμε στο χώρο μας και μαζί να κάνουμε τα όνειρά σας πραγματικότητα. Επισκεφθείτε την ιστοσελίδα του κολεγίου https://www.cdacollege.ac.cy/ για να μάθετε περισσότερες πληροφορίες σχετικά με τα προγράμματα σπουδών. Ακολουθήστε μας και στα υπόλοιπα social media στο Instagram & στο Tik Tok {cda.college} για να μαθαίνετε νέα.\n\n\n#cdacollege #college #collegelife #study #applynow #cyprus #nicosia #academic #academicyear #volunteering #volunteeringopportunities
URL:https://www.cdacollege.ac.cy/event/1%ce%b7-%ce%b1%ce%ba%ce%b1%ce%b4%ce%b7%ce%bc%ce%b1%cf%8a%ce%ba%ce%ae-%cf%83%cf%85%ce%bd%ce%ac%ce%bd%cf%84%ce%b7%cf%83%ce%b7-%cf%84%ce%bf%cf%85-%ce%ba%ce%b5%ce%bd%cf%84%cf%81%ce%b9%ce%ba%ce%bf%cf%8d/
END:VEVENT
BEGIN:VEVENT
DTSTART;TZID=Europe/Helsinki:20220929T180000
DTEND;TZID=Europe/Helsinki:20220929T200000
DTSTAMP:20260421T214303
CREATED:20221014T111545Z
LAST-MODIFIED:20221014T111853Z
UID:12600-1664474400-1664481600@www.cdacollege.ac.cy
SUMMARY:Γενική Συνέλευση Ακαδημαϊκού και Διοικητικού προσωπικού C.D.A College
DESCRIPTION:Η Γενική Συνέλευση του Ακαδημαϊκού και Διοικητικού Προσωπικού του Κολεγίου CDA Παγκύπρια πραγματοποιήθηκε τις 29 Σεπτεμβρίου 2022 στη Δημοσιογραφική Εστία στη Λευκωσία. Ο Πρόεδρος του Κολεγίου CDA κ. Θανάσης Χριστοφόρου προλόγισε τη συνάντηση κι ευχήθηκε μια εποικοδομητική ακαδημαϊκή χρονιά και ο Γενικός Διευθυντής κ. Παντελής Ιωάννου προέβη σε σύντομο απολογισμό για τα επιτεύγματα του Κολεγίου με την επιτυχή αξιολόγηση 48 προγραμμάτων σπουδών και ανέλυσε τους στόχους του Κολεγίου για το επερχόμενο έτος 2022-2023. Τη συνέλευση χαιρέτισαν επίσης οι Διευθύντριες των τεσσάρων Παραρτημάτων του Κολεγίου. Τα μαθήματα αρχίζουν τη Δευτέρα 3 Οκτωβρίου 2022.\n\n\n#cdacollege #generalmeeting #newgoals #newacademicyear
URL:https://www.cdacollege.ac.cy/event/%ce%b3%ce%b5%ce%bd%ce%b9%ce%ba%ce%ae-%cf%83%cf%85%ce%bd%ce%ad%ce%bb%ce%b5%cf%85%cf%83%ce%b7-%ce%b1%ce%ba%ce%b1%ce%b4%ce%b7%ce%bc%ce%b1%cf%8a%ce%ba%ce%bf%cf%8d-%ce%ba%ce%b1%ce%b9-%ce%b4%ce%b9%ce%bf/
LOCATION:CDA College
END:VEVENT
BEGIN:VEVENT
DTSTART;TZID=Europe/Helsinki:20220930T100000
DTEND;TZID=Europe/Helsinki:20220930T130000
DTSTAMP:20260421T214303
CREATED:20221014T111111Z
LAST-MODIFIED:20221014T115203Z
UID:12576-1664532000-1664542800@www.cdacollege.ac.cy
SUMMARY:Ημέρα Καλοσωρίσματος C.D.A College Λευκωσίας
DESCRIPTION:Την Παρασκευή 30/9/2022 πραγματοποιήθηκε η ημέρα γνωριμίας στο κεντρικό παράρτημα του Κολεγίου C.D.A. στην πόλη της Λευκωσίας. Η συγκέντρωση έλαβε χώρα στη βιβλιοθήκη του Κολεγίου και το Διοικητικό\, καθώς και το Ακαδημαϊκό προσωπικό ήταν εκεί για να υποδεχθεί νέους/ες και συνεχιζόμενους/ες φοιτητές/τριες. Ο Γενικός Διευθυντής κ. Παντελής Ιωάννου και η Διευθύντρια του κεντρικού παραρτήματος της Λευκωσίας κα. Κατερίνα Κυριακίδου καλωσόρισαν τους/τις φοιτητές/τριες\, τους παρουσίασαν το Διοικητικό προσωπικό του Κολεγίου\, αλλά και τους καινούργιους καθηγητές που έγιναν μέλη της οικογένειας C.D.A. Στη συνέχεια\, πραγματοποιήθηκε ο Αγιασμός για τη νέα ακαδημαϊκή χρονιά.\n\n\nΠαρουσιάσεις προς ενημέρωση των φοιτητών/τριων πραγματοποιήθηκαν από την κα. Χριστίνα Αγαθαγγέλου\, σχετικά με τα προγράμματα Erasmus και την ηλεκτρονική πλατφόρμα Moodle-Zoom του Κολεγίου. Από τον κλινικό ψυχολόγο κ. Κωνσταντίνο Μιχαήλ για το συμβουλευτικό κέντρο ΚΕΣΥΠΑ. Επίσης\, παρουσιάσεις έγιναν από την Μαριλένα Πιστέντη και τον κ. Αντρέα Κωστή για την εφαρμογή Buyway365\, που έχει τη χαρά να συνεργάζεται το Κολέγιο μας\, αλλά και από τη βιβλιοθηκονόμο κα. Χριστίνα Κουρβαζέλη για τις υπηρεσίες της βιβλιοθήκης.\n\n\nΕυχαριστούμε θερμά φοιτητές/τριες και συναδέλφους/ισσες που παρευρέθηκαν στην συνάντηση αυτή και σας ευχόμαστε μια όμορφη και εποικοδομητική ακαδημαϊκή χρονιά.\n\n\nΤα μαθήματα ξεκινούν τη Δευτέρα 3/10/2022 και θα είμαστε όλοι στις θέσεις μας να σας υποδεχθούμε με χαμόγελα και όρεξη για γνώση!!!\n\n\nΕπισκεφθείτε την ιστοσελίδα του κολεγίου https://www.cdacollege.ac.cy/ για να μάθετε περισσότερες πληροφορίες σχετικά με τα προγράμματα σπουδών. Ακολουθήστε μας και στα υπόλοιπα social media στο Instagram & στο Tik Tok {cda.college} για να μαθαίνετε νέα.
URL:https://www.cdacollege.ac.cy/event/%ce%b7%ce%bc%ce%ad%cf%81%ce%b1-%ce%ba%ce%b1%ce%bb%ce%bf%cf%83%cf%89%cf%81%ce%af%cf%83%ce%bc%ce%b1%cf%84%ce%bf%cf%82-c-d-a-college-%ce%bb%ce%b5%cf%85%ce%ba%cf%89%cf%83%ce%af%ce%b1%cf%82/
LOCATION:CDA Nicosia Campus\, 2\, Evagorou Ave. Eleftherias Square\, P.O.Box 21972\, CY-1515.\, Nicosia\, Cyprus
END:VEVENT
END:VCALENDAR