BEGIN:VCALENDAR
VERSION:2.0
PRODID:-//CDA College - ECPv5.12.2//NONSGML v1.0//EN
CALSCALE:GREGORIAN
METHOD:PUBLISH
X-WR-CALNAME:CDA College
X-ORIGINAL-URL:https://www.cdacollege.ac.cy
X-WR-CALDESC:Events for CDA College
REFRESH-INTERVAL;VALUE=DURATION:PT1H
X-Robots-Tag:noindex
X-PUBLISHED-TTL:PT1H
BEGIN:VTIMEZONE
TZID:Europe/Helsinki
BEGIN:DAYLIGHT
TZOFFSETFROM:+0200
TZOFFSETTO:+0300
TZNAME:EEST
DTSTART:20220327T010000
END:DAYLIGHT
BEGIN:STANDARD
TZOFFSETFROM:+0300
TZOFFSETTO:+0200
TZNAME:EET
DTSTART:20221030T010000
END:STANDARD
END:VTIMEZONE
BEGIN:VEVENT
DTSTART;VALUE=DATE:20220805
DTEND;VALUE=DATE:20220806
DTSTAMP:20260421T231751
CREATED:20220805T055242Z
LAST-MODIFIED:20220805T070924Z
UID:12368-1659657600-1659743999@www.cdacollege.ac.cy
SUMMARY:Σύνδεσμος Επαγγελματιών Κομμωτικής C.D.A College
DESCRIPTION:Τα 10χρονα λειτουργίας του προγράμματος Κομμωτικής συμπληρώνει φέτος το CDA College Λευκωσίας . Στις 15 Ιουλίου\, 2022 σε μια λιτή τελετή πραγματοποιήθηκε μια μικρή αναδρομή στην δράση των Καθηγητών και Φοιτητών από το 2012- 2022 και παρουσιάστηκαν οι βασικές αλλαγές που σημειώθηκαν στο πρόγραμμα μετά τις επαναξιολογήσεις.\nΤο Κολέγιο CDA είναι το πρώτο Κολέγιο που ενέταξε την Κομμωτική στην Τριτοβάθμια εκπαίδευση και διαθέτει την πείρα χρόνων και πολλούς αποφοίτους που αποκαταστάθηκαν επαγγελματικά.\n\n\n.
URL:https://www.cdacollege.ac.cy/event/%cf%83%cf%8d%ce%bd%ce%b4%ce%b5%cf%83%ce%bc%ce%bf%cf%82-%ce%b5%cf%80%ce%b1%ce%b3%ce%b3%ce%b5%ce%bb%ce%bc%ce%b1%cf%84%ce%b9%cf%8e%ce%bd-%ce%ba%ce%bf%ce%bc%ce%bc%cf%89%cf%84%ce%b9%ce%ba%ce%ae%cf%82-c-d-a/
LOCATION:CDA Nicosia Campus\, 2\, Evagorou Ave. Eleftherias Square\, P.O.Box 21972\, CY-1515.\, Nicosia\, Cyprus
END:VEVENT
END:VCALENDAR