BEGIN:VCALENDAR
VERSION:2.0
PRODID:-//CDA College - ECPv5.12.2//NONSGML v1.0//EN
CALSCALE:GREGORIAN
METHOD:PUBLISH
X-WR-CALNAME:CDA College
X-ORIGINAL-URL:https://www.cdacollege.ac.cy
X-WR-CALDESC:Events for CDA College
REFRESH-INTERVAL;VALUE=DURATION:PT1H
X-Robots-Tag:noindex
X-PUBLISHED-TTL:PT1H
BEGIN:VTIMEZONE
TZID:UTC
BEGIN:STANDARD
TZOFFSETFROM:+0000
TZOFFSETTO:+0000
TZNAME:UTC
DTSTART:20210101T000000
END:STANDARD
END:VTIMEZONE
BEGIN:VEVENT
DTSTART;TZID=UTC:20211011T080000
DTEND;TZID=UTC:20211222T170000
DTSTAMP:20260422T114709
CREATED:20211209T105838Z
LAST-MODIFIED:20211209T105838Z
UID:9589-1633939200-1640192400@www.cdacollege.ac.cy
SUMMARY:Collaboration with the Cyprus Association of Cancer Patients and Friends (PASYKAF)
DESCRIPTION:Participation in the PASYKAF fundraiser\nThe CDA College Nicosia participated in the 30th Campaign of Information and Financial Support of PASYKAF and a delegation of hairdressing students\, along with their professor Christos Kyriacou\, participated voluntarily in the fundraise. \nMoreover\, the Student Welfare Office sells the year ‘2022’ Charm which is Available with a red or black cord
URL:https://www.cdacollege.ac.cy/event/collaboration-with-the-cyprus-association-of-cancer-patients-and-friends-pasykaf/
LOCATION:CDA Nicosia Campus\, 2\, Evagorou Ave. Eleftherias Square\, P.O.Box 21972\, CY-1515.\, Nicosia\, Cyprus
END:VEVENT
BEGIN:VEVENT
DTSTART;TZID=UTC:20211201T080000
DTEND;TZID=UTC:20211201T170000
DTSTAMP:20260422T114709
CREATED:20211209T082600Z
LAST-MODIFIED:20211209T092311Z
UID:9540-1638345600-1638378000@www.cdacollege.ac.cy
SUMMARY:World HIV / AIDS Day
DESCRIPTION:On the occasion of World HIV / AIDS Day\, staff\, students from the Higher Diploma in Hairdressing and Aesthetics degree of CDA Limassol College participated in relevant activities: the KYFA Checkpoint Mobile Unit visited the College premises and of their tutors Fani Xanthopoulou\, Anthia Pisiara\, Christos Michael created hairstyles and makeup giving their own message! Also the Director of CDA Limassol and the Director of Public Relations\nLimassol were photographed with the President of Parliament of Cyprus\, Ms Annita Dimitriou.\nAt the same time\, Professor Dr. George Georgiadis gave a lecture to the students of CDA Paphos College\, noting that this year is a special year\, as 40 Years of Memory of the global HIV / AIDS epidemic.
URL:https://www.cdacollege.ac.cy/event/world-hiv-aids-day/
LOCATION:CDA Limassol& Paphos\, 2\, Kritona Tornariti P.O.Box 70114\, CY-3110\, Limassol\, Cyprus
END:VEVENT
BEGIN:VEVENT
DTSTART;TZID=UTC:20211201T080000
DTEND;TZID=UTC:20211201T170000
DTSTAMP:20260422T114709
CREATED:20211209T084203Z
LAST-MODIFIED:20211209T084203Z
UID:9545-1638345600-1638378000@www.cdacollege.ac.cy
SUMMARY:Participation in the Cyprus Cleaning Campaign "See it Clean" in Nicosia.
DESCRIPTION:Participation to the Cyprus Cleaning Campaign "See it Clean" in Nicosia.\nIn the Campaign of the 'Pancyprian Volunteering Coordinating Council "See It Clearly" and under the motto\n"We are joining forces and cleaning up Cyprus"\, a delegation of the student councils\, the director of Nicosia Mrs. Katerina Kyriakidou and the Director of Public Relations  of Nicosia Mrs. Tonia Georgiou participated. The place chosen was the Academy Park in Aglantzia.
URL:https://www.cdacollege.ac.cy/event/participation-in-the-cyprus-cleaning-campaign-see-it-clean-in-nicosia/
LOCATION:CDA Nicosia Campus\, 2\, Evagorou Ave. Eleftherias Square\, P.O.Box 21972\, CY-1515.\, Nicosia\, Cyprus
ORGANIZER;CN="Pancyprian%20Volunteering%20Coordinating%20Council":MAILTO:eselev@cytanet.com.cy, nicosia@ethelontis.net
END:VEVENT
BEGIN:VEVENT
DTSTART;TZID=UTC:20211201T090000
DTEND;TZID=UTC:20211201T123000
DTSTAMP:20260422T114709
CREATED:20211210T111451Z
LAST-MODIFIED:20211215T071135Z
UID:9716-1638349200-1638361800@www.cdacollege.ac.cy
SUMMARY:Presentation of Reflexology at Aesthetics students by Kybella
DESCRIPTION:Presentation of Reflexology at Aesthetics students by Kybella \n  \n 
URL:https://www.cdacollege.ac.cy/event/9716/
LOCATION:CDA Larnaca Campus\, 5\, Loukis Akritas\, 2nd Floor\, Acropolis Square\, P.O.Box 40426\, CY-6304\, Larnaca\, Cyprus
END:VEVENT
BEGIN:VEVENT
DTSTART;TZID=UTC:20211202T080000
DTEND;TZID=UTC:20211202T170000
DTSTAMP:20260422T114709
CREATED:20211209T083106Z
LAST-MODIFIED:20211209T083106Z
UID:9543-1638432000-1638464400@www.cdacollege.ac.cy
SUMMARY:Distinction of  Hairdressing graduate Antonis Sazou in the competition\, organized by the Galastyle hairdressing magazine
DESCRIPTION:Antonis Sazou\, graduate of  Hairdressing programme in Limassol took first place in the Hairstylist colour / Professional category of the Creative Captures competition\, organized by the Galastyle hairdressing magazine.\nCongratulations and all the best!
URL:https://www.cdacollege.ac.cy/event/distinction-of-hairdressing-graduate-antonis-sazou-in-the-competition-organized-by-the-galastyle-hairdressing-magazine/
LOCATION:CDA Limassol Campus\, 2\, Kritona Tornariti P.O.Box 70114\, CY-3110\, Limassol\, Cyprus
END:VEVENT
BEGIN:VEVENT
DTSTART;TZID=UTC:20211202T080000
DTEND;TZID=UTC:20211202T170000
DTSTAMP:20260422T114709
CREATED:20211209T093017Z
LAST-MODIFIED:20211209T093017Z
UID:9565-1638432000-1638464400@www.cdacollege.ac.cy
SUMMARY:Participation of the Director of CDA College Limassol\, Mrs. Antigone Michael at the DIMA 2.0 conference
DESCRIPTION:The Director of CDA College Limassol\, Mrs. Antigone Michael participated at the DIMA 2.0 conference on “Development of Strategies Adult Education: Trends and priorities in Cyprus and Europe”
URL:https://www.cdacollege.ac.cy/event/participation-of-the-director-of-cda-college-limassol-mrs-antigone-michael-at-the-dima-2-0-conference/
LOCATION:CDA Limassol Campus\, 2\, Kritona Tornariti P.O.Box 70114\, CY-3110\, Limassol\, Cyprus
END:VEVENT
BEGIN:VEVENT
DTSTART;TZID=UTC:20211202T080000
DTEND;TZID=UTC:20211208T170000
DTSTAMP:20260422T114709
CREATED:20211210T111826Z
LAST-MODIFIED:20211210T111826Z
UID:9718-1638432000-1638982800@www.cdacollege.ac.cy
SUMMARY:Competition for Hairdressing students
DESCRIPTION:Competition on Ancient Greece for  3rd year of Hairdressing and  Competition on evening hairstyles for 2nd year of hairdressing
URL:https://www.cdacollege.ac.cy/event/competition-for-hairdressing-students/
LOCATION:CDA Larnaca Campus\, 5\, Loukis Akritas\, 2nd Floor\, Acropolis Square\, P.O.Box 40426\, CY-6304\, Larnaca\, Cyprus
END:VEVENT
BEGIN:VEVENT
DTSTART;TZID=UTC:20211208T080000
DTEND;TZID=UTC:20211223T170000
DTSTAMP:20260422T114709
CREATED:20211209T090351Z
LAST-MODIFIED:20211209T090351Z
UID:9551-1638950400-1640278800@www.cdacollege.ac.cy
SUMMARY:'Week of Love' in CDA College Larnaca
DESCRIPTION:CDA Larnaca in Christmas mood again this year prepared a ‘Week of Love’ with a charitable purpose:  the students of Aesthetics & Hairdressing will provide services at low prices to their fellow students and the staff . At the same time\, we run  a small bazaar with handmade accessories\, cosmetics\, decorations etc. \nAll net proceeds will go to Thermokoitida Agapis
URL:https://www.cdacollege.ac.cy/event/week-of-love-in-cda-college-larnaca/
LOCATION:CDA Larnaca Campus\, 5\, Loukis Akritas\, 2nd Floor\, Acropolis Square\, P.O.Box 40426\, CY-6304\, Larnaca\, Cyprus
CATEGORIES:volunteering
END:VEVENT
BEGIN:VEVENT
DTSTART;TZID=UTC:20211208T100000
DTEND;TZID=UTC:20211208T120000
DTSTAMP:20260422T114709
CREATED:20211209T060604Z
LAST-MODIFIED:20211213T112504Z
UID:9526-1638957600-1638964800@www.cdacollege.ac.cy
SUMMARY:1ST STUDENT WELFARE & CAREER DAY
DESCRIPTION:1st STUDENT WELFARE event inter \nThe “1st Student Welfare and Career Day Workshop” organized by the Student Welfare Office of Nicosia held today from 10.00 to 12.00 in the morning at the library and cafeteria of the main building in Nicosia (Eleftherias Square).\nStudents of all programs were informed  about the possibility of student loans and jobs in big companies like Lidl Cyprus\, Zorbas\, Rocket Cyprus. They were informed about the discounts of PAMEUNi and You dream company\, Makeup presentations were made by the professional companies Kybella\, and Helen Seward Cyprus\, and the company Korombilias Trading Ltd \, the Euforia Wellness Center and the company Spatium Trading Cyprus paid gifts for students. \nThey also tasted Christmas delicacies offered by Zorbas Bakers and Lidl\, met new companies such as hlopps for healthy snacks\, collected books to be donated to the @PAWS – Protecting Animals Without Shelter for the care of stray animals. Finally\, they were informed by the Karaiskakio Foundation about the procedure of the bone marrow donor. \n 
URL:https://www.cdacollege.ac.cy/event/1st-student-welfare-career-day/
LOCATION:CDA Nicosia Campus\, 2\, Evagorou Ave. Eleftherias Square\, P.O.Box 21972\, CY-1515.\, Nicosia\, Cyprus
END:VEVENT
BEGIN:VEVENT
DTSTART;TZID=UTC:20211209T080000
DTEND;TZID=UTC:20211222T170000
DTSTAMP:20260422T114709
CREATED:20211209T085331Z
LAST-MODIFIED:20211209T085331Z
UID:9548-1639036800-1640192400@www.cdacollege.ac.cy
SUMMARY:Participation in the Pancyprian campaign "Adopt" a family for Christmas - to support vulnerable families
DESCRIPTION:Students and Staff give some love and collect gifts for children  and money to buy coupons from supermarket for vulnerable families
URL:https://www.cdacollege.ac.cy/event/participation-in-the-pancyprian-campaign-adopt-a-family-for-christmas-to-support-vulnerable-families/
LOCATION:CDA Nicosia Campus\, 2\, Evagorou Ave. Eleftherias Square\, P.O.Box 21972\, CY-1515.\, Nicosia\, Cyprus
ORGANIZER;CN="Pancyprian%20Volunteering%20Coordinating%20Council":MAILTO:eselev@cytanet.com.cy, nicosia@ethelontis.net
END:VEVENT
BEGIN:VEVENT
DTSTART;TZID=UTC:20211213T080000
DTEND;TZID=UTC:20211213T170000
DTSTAMP:20260422T114709
CREATED:20211213T110056Z
LAST-MODIFIED:20211213T110056Z
UID:10074-1639382400-1639414800@www.cdacollege.ac.cy
SUMMARY:CDA College supports Europa Donna
DESCRIPTION:The head of the “I support” program of the Europa Donna and psychologist Dr. Stefanis Christodoulidou gave a lecture to the students and referred to the ways of support and the importance of psychology in people diagnosed with breast cancer\, as well as the ways of prevention.
URL:https://www.cdacollege.ac.cy/event/cda-college-supports-europa-donna/
LOCATION:CDA Nicosia Campus\, 2\, Evagorou Ave. Eleftherias Square\, P.O.Box 21972\, CY-1515.\, Nicosia\, Cyprus
END:VEVENT
BEGIN:VEVENT
DTSTART;TZID=UTC:20211215T080000
DTEND;TZID=UTC:20211217T130000
DTSTAMP:20260422T114709
CREATED:20211214T101701Z
LAST-MODIFIED:20211217T065211Z
UID:10129-1639555200-1639746000@www.cdacollege.ac.cy
SUMMARY:Three days of offering Aesthetics and Hairdressing Services for charity at CDA College Limassol
DESCRIPTION:https://www.facebook.com/CdaCollegeCyprus/photos/a.376056012540122/2759171287561904/
URL:https://www.cdacollege.ac.cy/event/three-days-of-offering-aesthetics-and-hairdressing-services-for-charity-at-cda-college-limassol/
LOCATION:CDA Limassol Campus\, 2\, Kritona Tornariti P.O.Box 70114\, CY-3110\, Limassol\, Cyprus
CATEGORIES:volunteering
ATTACH;FMTTYPE=image/jpeg:https://www.cdacollege.ac.cy/cda_uploads/2021/10/hari-hd.jpeg
END:VEVENT
BEGIN:VEVENT
DTSTART;TZID=UTC:20211216T090000
DTEND;TZID=UTC:20211216T110000
DTSTAMP:20260422T114709
CREATED:20211112T063917Z
LAST-MODIFIED:20211214T091619Z
UID:8018-1639645200-1639652400@www.cdacollege.ac.cy
SUMMARY:New Website Launch Event
DESCRIPTION:The New Website Launch Event will be held at Aeschylou Branch on December 16th\, in the presence of the Directors of all branches.
URL:https://www.cdacollege.ac.cy/event/new-website-launch-event/
LOCATION:CDA Nicosia Campus\, 2\, Evagorou Ave. Eleftherias Square\, P.O.Box 21972\, CY-1515.\, Nicosia\, Cyprus
ATTACH;FMTTYPE=image/jpeg:https://www.cdacollege.ac.cy/cda_uploads/2021/11/campus-maps.jpg
END:VEVENT
BEGIN:VEVENT
DTSTART;TZID=UTC:20211217T090000
DTEND;TZID=UTC:20211217T130000
DTSTAMP:20260422T114709
CREATED:20211215T070640Z
LAST-MODIFIED:20211217T065132Z
UID:10217-1639731600-1639746000@www.cdacollege.ac.cy
SUMMARY:Christmas with Love
DESCRIPTION:We are waiting for you to share the love!\nUnder the title “Christmas with love”\, CDA College Pafos organizes a charity day on Friday\, December 17\, 2021 during the hours of 9:00-13:00 at the college premises. Sampling will be carried out from Karaiskakeio for little Louka Stavrou\, to find a compatible bone marrow donor\, from healthy people aged 18-45 who have not given a sample before. Those who wish can cut their hair and donate it to Karaiskakio to become wigs for people who suffer from cancer. In the area you will host a charity bazaar with  ornaments\, books\, accessories\, toys\, sweets\, and more. Participants karaiskakio Foundation\, Margarita Liasidou Foundation\, Red Cross\, PASYKAF and SPAVO. Lastly\, Hairdressing and aesthetics students will present imaginative Christmas hairstyles and makeup. A digital safe pass and mask are required.
URL:https://www.cdacollege.ac.cy/event/christmas-with-love/
LOCATION:CDA Paphos Campus\, Democratias Anenue 73\, CY 8028\, Paphos\, Cyprus
CATEGORIES:volunteering
ATTACH;FMTTYPE=image/jpeg:https://www.cdacollege.ac.cy/cda_uploads/2021/09/slide0.jpg
END:VEVENT
BEGIN:VEVENT
DTSTART;TZID=UTC:20211222T090000
DTEND;TZID=UTC:20211222T120000
DTSTAMP:20260422T114709
CREATED:20211217T092148Z
LAST-MODIFIED:20211217T092148Z
UID:10311-1640163600-1640174400@www.cdacollege.ac.cy
SUMMARY:Lash perm – lash lift – eyebrows lift and lamination-botox
DESCRIPTION:Master Class from  A. CH LTD subject lash perm – lash lift – eyebrows lift and lamination-botox \non 22/12/2021 – 9:00 am – 12:00 pm. at CDA College Limassol only for our Aesthetics students.
URL:https://www.cdacollege.ac.cy/event/lash-perm-lash-lift-eyebrows-lift-and-lamination-botox/
LOCATION:CDA Limassol Campus\, 2\, Kritona Tornariti P.O.Box 70114\, CY-3110\, Limassol\, Cyprus
END:VEVENT
END:VCALENDAR