BEGIN:VCALENDAR
VERSION:2.0
PRODID:-//CDA College - ECPv5.12.2//NONSGML v1.0//EN
CALSCALE:GREGORIAN
METHOD:PUBLISH
X-WR-CALNAME:CDA College
X-ORIGINAL-URL:https://www.cdacollege.ac.cy
X-WR-CALDESC:Events for CDA College
REFRESH-INTERVAL;VALUE=DURATION:PT1H
X-Robots-Tag:noindex
X-PUBLISHED-TTL:PT1H
BEGIN:VTIMEZONE
TZID:Europe/Helsinki
BEGIN:DAYLIGHT
TZOFFSETFROM:+0200
TZOFFSETTO:+0300
TZNAME:EEST
DTSTART:20240331T010000
END:DAYLIGHT
BEGIN:STANDARD
TZOFFSETFROM:+0300
TZOFFSETTO:+0200
TZNAME:EET
DTSTART:20241027T010000
END:STANDARD
END:VTIMEZONE
BEGIN:VEVENT
DTSTART;TZID=Europe/Helsinki:20241114T090000
DTEND;TZID=Europe/Helsinki:20241114T133000
DTSTAMP:20260422T061752
CREATED:20241202T134522Z
LAST-MODIFIED:20241202T134522Z
UID:14133-1731574800-1731591000@www.cdacollege.ac.cy
SUMMARY:Ημέρα Ελεύθερων Δραστηριοτήτων
DESCRIPTION:Την Ημέρα Ελεύθερων Δραστηριοτήτων  οι φοιτητές/τριες του Κολεγίου μας στη Λευκωσία επισκέφθηκαν το Paradox Museum στη Μαρίνα Λεμεσού και ξεναγήθηκαν στους χώρους του\, διασκεδάζοντας και μαθαίνοντας!
URL:https://www.cdacollege.ac.cy/event/%ce%b7%ce%bc%ce%ad%cf%81%ce%b1-%ce%b5%ce%bb%ce%b5%cf%8d%ce%b8%ce%b5%cf%81%cf%89%ce%bd-%ce%b4%cf%81%ce%b1%cf%83%cf%84%ce%b7%cf%81%ce%b9%ce%bf%cf%84%ce%ae%cf%84%cf%89%ce%bd/
CATEGORIES:entertainment
END:VEVENT
END:VCALENDAR