BEGIN:VCALENDAR
VERSION:2.0
PRODID:-//CDA College - ECPv5.12.2//NONSGML v1.0//EN
CALSCALE:GREGORIAN
METHOD:PUBLISH
X-WR-CALNAME:CDA College
X-ORIGINAL-URL:https://www.cdacollege.ac.cy
X-WR-CALDESC:Events for CDA College
REFRESH-INTERVAL;VALUE=DURATION:PT1H
X-Robots-Tag:noindex
X-PUBLISHED-TTL:PT1H
BEGIN:VTIMEZONE
TZID:Europe/Helsinki
BEGIN:DAYLIGHT
TZOFFSETFROM:+0200
TZOFFSETTO:+0300
TZNAME:EEST
DTSTART:20220327T010000
END:DAYLIGHT
BEGIN:STANDARD
TZOFFSETFROM:+0300
TZOFFSETTO:+0200
TZNAME:EET
DTSTART:20221030T010000
END:STANDARD
END:VTIMEZONE
BEGIN:VEVENT
DTSTART;TZID=Europe/Helsinki:20221210T200000
DTEND;TZID=Europe/Helsinki:20221210T233000
DTSTAMP:20260421T004012
CREATED:20221128T093030Z
LAST-MODIFIED:20221128T093031Z
UID:13158-1670702400-1670715000@www.cdacollege.ac.cy
SUMMARY:Nicosia's students' Christmas Party
DESCRIPTION:
URL:https://www.cdacollege.ac.cy/event/nicosias-students-christmas-party/
LOCATION:CDA Nicosia Campus\, 2\, Evagorou Ave. Eleftherias Square\, P.O.Box 21972\, CY-1515.\, Nicosia\, Cyprus
ATTACH;FMTTYPE=image/png:https://www.cdacollege.ac.cy/cda_uploads/2022/11/316570962_514061234113658_1519474065311694983_n.png
END:VEVENT
END:VCALENDAR