BEGIN:VCALENDAR
VERSION:2.0
PRODID:-//CDA College - ECPv5.12.2//NONSGML v1.0//EN
CALSCALE:GREGORIAN
METHOD:PUBLISH
X-WR-CALNAME:CDA College
X-ORIGINAL-URL:https://www.cdacollege.ac.cy
X-WR-CALDESC:Events for CDA College
REFRESH-INTERVAL;VALUE=DURATION:PT1H
X-Robots-Tag:noindex
X-PUBLISHED-TTL:PT1H
BEGIN:VTIMEZONE
TZID:Europe/Helsinki
BEGIN:DAYLIGHT
TZOFFSETFROM:+0200
TZOFFSETTO:+0300
TZNAME:EEST
DTSTART:20220327T010000
END:DAYLIGHT
BEGIN:STANDARD
TZOFFSETFROM:+0300
TZOFFSETTO:+0200
TZNAME:EET
DTSTART:20221030T010000
END:STANDARD
END:VTIMEZONE
BEGIN:VEVENT
DTSTART;TZID=Europe/Helsinki:20221115T093000
DTEND;TZID=Europe/Helsinki:20221115T130000
DTSTAMP:20260421T195915
CREATED:20221021T114524Z
LAST-MODIFIED:20221103T122403Z
UID:12638-1668504600-1668517200@www.cdacollege.ac.cy
SUMMARY:HAIR EVENT
DESCRIPTION:Hair Event διοργανώνουν την Τρίτη 15/11/22 τα Τμήματα Κομμωτικής του Κολεγίου CDA Λευκωσίας και Λάρνακας σε συνεργασία με την εταιρεία Vitality\, στο Παράρτημα Λευκωσίας. Ομιλητής θα είναι ο hair expert Μάριος Νεοφύτου με αναδρομή στην καλλιτεχνική του πορεία αλλά και tips του κλάδου. Η εταιρεία Vitality θα παρουσιάσει τα προϊόντα της. Θα δοθεί πιστοποιητικό παρακολούθησης.
URL:https://www.cdacollege.ac.cy/event/hair-event/
LOCATION:CDA Nicosia Campus\, 2\, Evagorou Ave. Eleftherias Square\, P.O.Box 21972\, CY-1515.\, Nicosia\, Cyprus
CATEGORIES:seminars
ATTACH;FMTTYPE=image/png:https://www.cdacollege.ac.cy/cda_uploads/2022/10/312144751_792219662068935_91233037441838764_n.png
END:VEVENT
END:VCALENDAR