BEGIN:VCALENDAR
VERSION:2.0
PRODID:-//CDA College - ECPv5.12.2//NONSGML v1.0//EN
CALSCALE:GREGORIAN
METHOD:PUBLISH
X-WR-CALNAME:CDA College
X-ORIGINAL-URL:https://www.cdacollege.ac.cy
X-WR-CALDESC:Events for CDA College
REFRESH-INTERVAL;VALUE=DURATION:PT1H
X-Robots-Tag:noindex
X-PUBLISHED-TTL:PT1H
BEGIN:VTIMEZONE
TZID:Europe/Helsinki
BEGIN:DAYLIGHT
TZOFFSETFROM:+0200
TZOFFSETTO:+0300
TZNAME:EEST
DTSTART:20220327T010000
END:DAYLIGHT
BEGIN:STANDARD
TZOFFSETFROM:+0300
TZOFFSETTO:+0200
TZNAME:EET
DTSTART:20221030T010000
END:STANDARD
END:VTIMEZONE
BEGIN:VEVENT
DTSTART;TZID=Europe/Helsinki:20221110T150000
DTEND;TZID=Europe/Helsinki:20221110T170000
DTSTAMP:20260421T195915
CREATED:20221103T120950Z
LAST-MODIFIED:20221103T121119Z
UID:12710-1668092400-1668099600@www.cdacollege.ac.cy
SUMMARY:Βιωματικό Εργαστήρι «Αναγνώριση Εξαρτητικών Συμπεριφορών»
DESCRIPTION:Με μεγάλη χαρά σας ανακοινώνουμε τη διεξαγωγή του Βιωματικού Εργαστηρίου «Αναγνώριση Εξαρτητικών Συμπεριφορών» με ομιλητή  τον κ. Ανδρέας Πηχίδη\, Νοσηλευτικός Λειτουργός Ψυχικής Υγείας. \nΠαρακαλώ απαντήστε μέχρι τις 7/11/2022 στο nicosia@cdacollege.ac.cy
URL:https://www.cdacollege.ac.cy/event/12710/
LOCATION:CDA Nicosia Campus\, 2\, Evagorou Ave. Eleftherias Square\, P.O.Box 21972\, CY-1515.\, Nicosia\, Cyprus
CATEGORIES:seminars
ATTACH;FMTTYPE=image/jpeg:https://www.cdacollege.ac.cy/cda_uploads/2022/11/ergastiri.jpg
END:VEVENT
END:VCALENDAR