BEGIN:VCALENDAR
VERSION:2.0
PRODID:-//CDA College - ECPv5.12.2//NONSGML v1.0//EN
CALSCALE:GREGORIAN
METHOD:PUBLISH
X-WR-CALNAME:CDA College
X-ORIGINAL-URL:https://www.cdacollege.ac.cy
X-WR-CALDESC:Events for CDA College
REFRESH-INTERVAL;VALUE=DURATION:PT1H
X-Robots-Tag:noindex
X-PUBLISHED-TTL:PT1H
BEGIN:VTIMEZONE
TZID:Europe/Helsinki
BEGIN:DAYLIGHT
TZOFFSETFROM:+0200
TZOFFSETTO:+0300
TZNAME:EEST
DTSTART:20220327T010000
END:DAYLIGHT
BEGIN:STANDARD
TZOFFSETFROM:+0300
TZOFFSETTO:+0200
TZNAME:EET
DTSTART:20221030T010000
END:STANDARD
END:VTIMEZONE
BEGIN:VEVENT
DTSTART;TZID=Europe/Helsinki:20220510T080000
DTEND;TZID=Europe/Helsinki:20220510T170000
DTSTAMP:20260422T054647
CREATED:20220523T120341Z
LAST-MODIFIED:20220523T121149Z
UID:11764-1652169600-1652202000@www.cdacollege.ac.cy
SUMMARY:Lash lift and brow lamination seminars
DESCRIPTION:The Aesthetics students of CDA College Nicosia attended an all-day seminar on Lash lift and brow lamination by trainers from Perfect Eyelash Cyprus. The seminar included a practical application of the above services and the students were awarded a Certificate.
URL:https://www.cdacollege.ac.cy/event/11764/
LOCATION:CDA Nicosia Campus\, 2\, Evagorou Ave. Eleftherias Square\, P.O.Box 21972\, CY-1515.\, Nicosia\, Cyprus
END:VEVENT
END:VCALENDAR