BEGIN:VCALENDAR
VERSION:2.0
PRODID:-//CDA College - ECPv5.12.2//NONSGML v1.0//EN
CALSCALE:GREGORIAN
METHOD:PUBLISH
X-WR-CALNAME:CDA College
X-ORIGINAL-URL:https://www.cdacollege.ac.cy
X-WR-CALDESC:Events for CDA College
REFRESH-INTERVAL;VALUE=DURATION:PT1H
X-Robots-Tag:noindex
X-PUBLISHED-TTL:PT1H
BEGIN:VTIMEZONE
TZID:Europe/Helsinki
BEGIN:DAYLIGHT
TZOFFSETFROM:+0200
TZOFFSETTO:+0300
TZNAME:EEST
DTSTART:20220327T010000
END:DAYLIGHT
BEGIN:STANDARD
TZOFFSETFROM:+0300
TZOFFSETTO:+0200
TZNAME:EET
DTSTART:20221030T010000
END:STANDARD
END:VTIMEZONE
BEGIN:VEVENT
DTSTART;TZID=Europe/Helsinki:20220411T090000
DTEND;TZID=Europe/Helsinki:20220415T130000
DTSTAMP:20260422T071358
CREATED:20220406T052926Z
LAST-MODIFIED:20220412T041535Z
UID:11615-1649667600-1650027600@www.cdacollege.ac.cy
SUMMARY:EASTER CHARITY LOVE BAZAAR
DESCRIPTION:Join us at Larnaca Campus for our annual Easter Charity Love Bazaar. Our Hairdressing and Beauty Therapy services will be offered by our students at lower prices. Our Bazaar will also offer Easter candles\, handmade products\, scented candles\, home decorations\, jewelry etc. \nThe money collected will be used for the families of the Pediatric Clinic of Arch. Makarios III Hospital patients. Check the program of the event here and arrange for your appointment in time. 
URL:https://www.cdacollege.ac.cy/event/easter-charity-love-bazaar/
LOCATION:CDA Larnaca Campus\, 5\, Loukis Akritas\, 2nd Floor\, Acropolis Square\, P.O.Box 40426\, CY-6304\, Larnaca\, Cyprus
CATEGORIES:charity events
ORGANIZER;CN="CDA%20College%20Larnaca":MAILTO:larnaca@cdacollege.ac.cy
END:VEVENT
END:VCALENDAR