BEGIN:VCALENDAR
VERSION:2.0
PRODID:-//CDA College - ECPv5.12.2//NONSGML v1.0//EN
CALSCALE:GREGORIAN
METHOD:PUBLISH
X-WR-CALNAME:CDA College
X-ORIGINAL-URL:https://www.cdacollege.ac.cy
X-WR-CALDESC:Events for CDA College
REFRESH-INTERVAL;VALUE=DURATION:PT1H
X-Robots-Tag:noindex
X-PUBLISHED-TTL:PT1H
BEGIN:VTIMEZONE
TZID:Europe/Helsinki
BEGIN:DAYLIGHT
TZOFFSETFROM:+0200
TZOFFSETTO:+0300
TZNAME:EEST
DTSTART:20220327T010000
END:DAYLIGHT
BEGIN:STANDARD
TZOFFSETFROM:+0300
TZOFFSETTO:+0200
TZNAME:EET
DTSTART:20221030T010000
END:STANDARD
END:VTIMEZONE
BEGIN:VEVENT
DTSTART;TZID=Europe/Helsinki:20220404T080000
DTEND;TZID=Europe/Helsinki:20220404T170000
DTSTAMP:20260422T071335
CREATED:20220405T102451Z
LAST-MODIFIED:20220405T102451Z
UID:11583-1649059200-1649091600@www.cdacollege.ac.cy
SUMMARY:World Autism Awareness Day
DESCRIPTION:CDA College Nicosia staff wore blue and were photographed for World Autism Awareness Day
URL:https://www.cdacollege.ac.cy/event/world-autism-awareness-day/
LOCATION:CDA Nicosia Campus\, 2\, Evagorou Ave. Eleftherias Square\, P.O.Box 21972\, CY-1515.\, Nicosia\, Cyprus
END:VEVENT
END:VCALENDAR