BEGIN:VCALENDAR
VERSION:2.0
PRODID:-//CDA College - ECPv5.12.2//NONSGML v1.0//EN
CALSCALE:GREGORIAN
METHOD:PUBLISH
X-WR-CALNAME:CDA College
X-ORIGINAL-URL:https://www.cdacollege.ac.cy
X-WR-CALDESC:Events for CDA College
REFRESH-INTERVAL;VALUE=DURATION:PT1H
X-Robots-Tag:noindex
X-PUBLISHED-TTL:PT1H
BEGIN:VTIMEZONE
TZID:Europe/Helsinki
BEGIN:DAYLIGHT
TZOFFSETFROM:+0200
TZOFFSETTO:+0300
TZNAME:EEST
DTSTART:20220327T010000
END:DAYLIGHT
BEGIN:STANDARD
TZOFFSETFROM:+0300
TZOFFSETTO:+0200
TZNAME:EET
DTSTART:20221030T010000
END:STANDARD
END:VTIMEZONE
BEGIN:VEVENT
DTSTART;TZID=Europe/Helsinki:20220331T080000
DTEND;TZID=Europe/Helsinki:20220331T170000
DTSTAMP:20260422T071337
CREATED:20220405T102736Z
LAST-MODIFIED:20220405T102736Z
UID:11585-1648713600-1648746000@www.cdacollege.ac.cy
SUMMARY:Make-up Artist Ilona in CDA College
DESCRIPTION:CDA College Nicosia hosted the Make-up Artist Ilona for the Bridal Make-Up presentation to Aesthetics students on March 31st. Tips and practices were presented and Certificates of Attendance were given.
URL:https://www.cdacollege.ac.cy/event/make-up-artist-ilona-in-cda-college/
LOCATION:CDA Nicosia Campus\, 2\, Evagorou Ave. Eleftherias Square\, P.O.Box 21972\, CY-1515.\, Nicosia\, Cyprus
END:VEVENT
END:VCALENDAR