BEGIN:VCALENDAR
VERSION:2.0
PRODID:-//CDA College - ECPv5.12.2//NONSGML v1.0//EN
CALSCALE:GREGORIAN
METHOD:PUBLISH
X-WR-CALNAME:CDA College
X-ORIGINAL-URL:https://www.cdacollege.ac.cy
X-WR-CALDESC:Events for CDA College
REFRESH-INTERVAL;VALUE=DURATION:PT1H
X-Robots-Tag:noindex
X-PUBLISHED-TTL:PT1H
BEGIN:VTIMEZONE
TZID:Europe/Helsinki
BEGIN:DAYLIGHT
TZOFFSETFROM:+0200
TZOFFSETTO:+0300
TZNAME:EEST
DTSTART:20220327T010000
END:DAYLIGHT
BEGIN:STANDARD
TZOFFSETFROM:+0300
TZOFFSETTO:+0200
TZNAME:EET
DTSTART:20221030T010000
END:STANDARD
END:VTIMEZONE
BEGIN:VEVENT
DTSTART;TZID=Europe/Helsinki:20220314T170000
DTEND;TZID=Europe/Helsinki:20220314T180000
DTSTAMP:20260422T084518
CREATED:20220405T103242Z
LAST-MODIFIED:20220405T103242Z
UID:11589-1647277200-1647280800@www.cdacollege.ac.cy
SUMMARY:Mr. Konstantinos Skoutaridis of GAP Vassilopoulos Business Experience Program
DESCRIPTION:CDA College Nicosia hosts Mr. Konstantinos Skoutaridis of GAP Vassilopoulos Business Experience Program as Guest lecturer\nIn the context of in-service training in addition to academic courses\, exploration and preparation of students for the labor market and information on the possibility of direct employment in one of the largest companies GAP Vassilopoulos-
URL:https://www.cdacollege.ac.cy/event/mr-konstantinos-skoutaridis-of-gap-vassilopoulos-business-experience-program/
LOCATION:CDA Nicosia Campus\, 2\, Evagorou Ave. Eleftherias Square\, P.O.Box 21972\, CY-1515.\, Nicosia\, Cyprus
END:VEVENT
END:VCALENDAR