BEGIN:VCALENDAR
VERSION:2.0
PRODID:-//CDA College - ECPv5.12.2//NONSGML v1.0//EN
CALSCALE:GREGORIAN
METHOD:PUBLISH
X-WR-CALNAME:CDA College
X-ORIGINAL-URL:https://www.cdacollege.ac.cy
X-WR-CALDESC:Events for CDA College
REFRESH-INTERVAL;VALUE=DURATION:PT1H
X-Robots-Tag:noindex
X-PUBLISHED-TTL:PT1H
BEGIN:VTIMEZONE
TZID:Europe/Helsinki
BEGIN:DAYLIGHT
TZOFFSETFROM:+0200
TZOFFSETTO:+0300
TZNAME:EEST
DTSTART:20220327T010000
END:DAYLIGHT
BEGIN:STANDARD
TZOFFSETFROM:+0300
TZOFFSETTO:+0200
TZNAME:EET
DTSTART:20221030T010000
END:STANDARD
END:VTIMEZONE
BEGIN:VEVENT
DTSTART;TZID=Europe/Helsinki:20220308T080000
DTEND;TZID=Europe/Helsinki:20220308T130000
DTSTAMP:20260422T084411
CREATED:20220224T095044Z
LAST-MODIFIED:20220224T114134Z
UID:11504-1646726400-1646744400@www.cdacollege.ac.cy
SUMMARY:International Woman's Day March 8 @CDA Nicosia
DESCRIPTION:Woman’s Day \nInvite the most important woman in your life and offer her a service for free as a sign of gratitude for what she offers you! * It is necessary to present a 48-hour rapid Test regardless of the vaccination program\n \n-mini facial treatments 30′\, \n– relaxing/ antiaging facial massage 30′ \n-mini relaxing back or head massage 25-30′ \n– natural day make up 25′ \n 
URL:https://www.cdacollege.ac.cy/event/international-womans-day-march-8-cda-nicosia/
LOCATION:CDA Nicosia Campus\, 2\, Evagorou Ave. Eleftherias Square\, P.O.Box 21972\, CY-1515.\, Nicosia\, Cyprus
END:VEVENT
END:VCALENDAR