BEGIN:VCALENDAR
VERSION:2.0
PRODID:-//CDA College - ECPv5.12.2//NONSGML v1.0//EN
CALSCALE:GREGORIAN
METHOD:PUBLISH
X-WR-CALNAME:CDA College
X-ORIGINAL-URL:https://www.cdacollege.ac.cy
X-WR-CALDESC:Events for CDA College
REFRESH-INTERVAL;VALUE=DURATION:PT1H
X-Robots-Tag:noindex
X-PUBLISHED-TTL:PT1H
BEGIN:VTIMEZONE
TZID:UTC
BEGIN:STANDARD
TZOFFSETFROM:+0000
TZOFFSETTO:+0000
TZNAME:UTC
DTSTART:20210101T000000
END:STANDARD
END:VTIMEZONE
BEGIN:VEVENT
DTSTART;TZID=UTC:20211011T080000
DTEND;TZID=UTC:20211222T170000
DTSTAMP:20260422T132630
CREATED:20211209T105838Z
LAST-MODIFIED:20211209T105838Z
UID:9589-1633939200-1640192400@www.cdacollege.ac.cy
SUMMARY:Collaboration with the Cyprus Association of Cancer Patients and Friends (PASYKAF)
DESCRIPTION:Participation in the PASYKAF fundraiser\nThe CDA College Nicosia participated in the 30th Campaign of Information and Financial Support of PASYKAF and a delegation of hairdressing students\, along with their professor Christos Kyriacou\, participated voluntarily in the fundraise. \nMoreover\, the Student Welfare Office sells the year ‘2022’ Charm which is Available with a red or black cord
URL:https://www.cdacollege.ac.cy/event/collaboration-with-the-cyprus-association-of-cancer-patients-and-friends-pasykaf/
LOCATION:CDA Nicosia Campus\, 2\, Evagorou Ave. Eleftherias Square\, P.O.Box 21972\, CY-1515.\, Nicosia\, Cyprus
END:VEVENT
BEGIN:VEVENT
DTSTART;TZID=UTC:20211208T080000
DTEND;TZID=UTC:20211223T170000
DTSTAMP:20260422T132630
CREATED:20211209T090351Z
LAST-MODIFIED:20211209T090351Z
UID:9551-1638950400-1640278800@www.cdacollege.ac.cy
SUMMARY:'Week of Love' in CDA College Larnaca
DESCRIPTION:CDA Larnaca in Christmas mood again this year prepared a ‘Week of Love’ with a charitable purpose:  the students of Aesthetics & Hairdressing will provide services at low prices to their fellow students and the staff . At the same time\, we run  a small bazaar with handmade accessories\, cosmetics\, decorations etc. \nAll net proceeds will go to Thermokoitida Agapis
URL:https://www.cdacollege.ac.cy/event/week-of-love-in-cda-college-larnaca/
LOCATION:CDA Larnaca Campus\, 5\, Loukis Akritas\, 2nd Floor\, Acropolis Square\, P.O.Box 40426\, CY-6304\, Larnaca\, Cyprus
CATEGORIES:volunteering
END:VEVENT
BEGIN:VEVENT
DTSTART;TZID=UTC:20211209T080000
DTEND;TZID=UTC:20211222T170000
DTSTAMP:20260422T132631
CREATED:20211209T085331Z
LAST-MODIFIED:20211209T085331Z
UID:9548-1639036800-1640192400@www.cdacollege.ac.cy
SUMMARY:Participation in the Pancyprian campaign "Adopt" a family for Christmas - to support vulnerable families
DESCRIPTION:Students and Staff give some love and collect gifts for children  and money to buy coupons from supermarket for vulnerable families
URL:https://www.cdacollege.ac.cy/event/participation-in-the-pancyprian-campaign-adopt-a-family-for-christmas-to-support-vulnerable-families/
LOCATION:CDA Nicosia Campus\, 2\, Evagorou Ave. Eleftherias Square\, P.O.Box 21972\, CY-1515.\, Nicosia\, Cyprus
ORGANIZER;CN="Pancyprian%20Volunteering%20Coordinating%20Council":MAILTO:eselev@cytanet.com.cy, nicosia@ethelontis.net
END:VEVENT
BEGIN:VEVENT
DTSTART;TZID=UTC:20211215T080000
DTEND;TZID=UTC:20211217T130000
DTSTAMP:20260422T132631
CREATED:20211214T101701Z
LAST-MODIFIED:20211217T065211Z
UID:10129-1639555200-1639746000@www.cdacollege.ac.cy
SUMMARY:Three days of offering Aesthetics and Hairdressing Services for charity at CDA College Limassol
DESCRIPTION:https://www.facebook.com/CdaCollegeCyprus/photos/a.376056012540122/2759171287561904/
URL:https://www.cdacollege.ac.cy/event/three-days-of-offering-aesthetics-and-hairdressing-services-for-charity-at-cda-college-limassol/
LOCATION:CDA Limassol Campus\, 2\, Kritona Tornariti P.O.Box 70114\, CY-3110\, Limassol\, Cyprus
CATEGORIES:volunteering
ATTACH;FMTTYPE=image/jpeg:https://www.cdacollege.ac.cy/cda_uploads/2021/10/hari-hd.jpeg
END:VEVENT
BEGIN:VEVENT
DTSTART;TZID=UTC:20211217T090000
DTEND;TZID=UTC:20211217T130000
DTSTAMP:20260422T132631
CREATED:20211215T070640Z
LAST-MODIFIED:20211217T065132Z
UID:10217-1639731600-1639746000@www.cdacollege.ac.cy
SUMMARY:Christmas with Love
DESCRIPTION:We are waiting for you to share the love!\nUnder the title “Christmas with love”\, CDA College Pafos organizes a charity day on Friday\, December 17\, 2021 during the hours of 9:00-13:00 at the college premises. Sampling will be carried out from Karaiskakeio for little Louka Stavrou\, to find a compatible bone marrow donor\, from healthy people aged 18-45 who have not given a sample before. Those who wish can cut their hair and donate it to Karaiskakio to become wigs for people who suffer from cancer. In the area you will host a charity bazaar with  ornaments\, books\, accessories\, toys\, sweets\, and more. Participants karaiskakio Foundation\, Margarita Liasidou Foundation\, Red Cross\, PASYKAF and SPAVO. Lastly\, Hairdressing and aesthetics students will present imaginative Christmas hairstyles and makeup. A digital safe pass and mask are required.
URL:https://www.cdacollege.ac.cy/event/christmas-with-love/
LOCATION:CDA Paphos Campus\, Democratias Anenue 73\, CY 8028\, Paphos\, Cyprus
CATEGORIES:volunteering
ATTACH;FMTTYPE=image/jpeg:https://www.cdacollege.ac.cy/cda_uploads/2021/09/slide0.jpg
END:VEVENT
END:VCALENDAR