BEGIN:VCALENDAR
VERSION:2.0
PRODID:-//CDA College - ECPv5.12.2//NONSGML v1.0//EN
CALSCALE:GREGORIAN
METHOD:PUBLISH
X-WR-CALNAME:CDA College
X-ORIGINAL-URL:https://www.cdacollege.ac.cy
X-WR-CALDESC:Events for CDA College
REFRESH-INTERVAL;VALUE=DURATION:PT1H
X-Robots-Tag:noindex
X-PUBLISHED-TTL:PT1H
BEGIN:VTIMEZONE
TZID:UTC
BEGIN:STANDARD
TZOFFSETFROM:+0000
TZOFFSETTO:+0000
TZNAME:UTC
DTSTART:20210101T000000
END:STANDARD
END:VTIMEZONE
BEGIN:VEVENT
DTSTART;TZID=UTC:20211011T080000
DTEND;TZID=UTC:20211222T170000
DTSTAMP:20260422T145250
CREATED:20211209T105838Z
LAST-MODIFIED:20211209T105838Z
UID:9589-1633939200-1640192400@www.cdacollege.ac.cy
SUMMARY:Collaboration with the Cyprus Association of Cancer Patients and Friends (PASYKAF)
DESCRIPTION:Participation in the PASYKAF fundraiser\nThe CDA College Nicosia participated in the 30th Campaign of Information and Financial Support of PASYKAF and a delegation of hairdressing students\, along with their professor Christos Kyriacou\, participated voluntarily in the fundraise. \nMoreover\, the Student Welfare Office sells the year ‘2022’ Charm which is Available with a red or black cord
URL:https://www.cdacollege.ac.cy/event/collaboration-with-the-cyprus-association-of-cancer-patients-and-friends-pasykaf/
LOCATION:CDA Nicosia Campus\, 2\, Evagorou Ave. Eleftherias Square\, P.O.Box 21972\, CY-1515.\, Nicosia\, Cyprus
END:VEVENT
BEGIN:VEVENT
DTSTART;TZID=UTC:20211111T080000
DTEND;TZID=UTC:20211111T130000
DTSTAMP:20260422T145250
CREATED:20211210T105556Z
LAST-MODIFIED:20211210T105652Z
UID:9698-1636617600-1636635600@www.cdacollege.ac.cy
SUMMARY:Visit to a Barber Shop
DESCRIPTION:Visit to a Barber Shop by hairdressing students of CDA College pafos as part of their course Men’s Haircut and Shaving with their Professor Rodin Kourmos
URL:https://www.cdacollege.ac.cy/event/9698/
LOCATION:CDA Paphos Campus\, Democratias Anenue 73\, CY 8028\, Paphos\, Cyprus
END:VEVENT
BEGIN:VEVENT
DTSTART;TZID=UTC:20211111T080000
DTEND;TZID=UTC:20211111T130000
DTSTAMP:20260422T145250
CREATED:20211210T105823Z
LAST-MODIFIED:20211213T104750Z
UID:9701-1636617600-1636635600@www.cdacollege.ac.cy
SUMMARY:Day of free activities @ Metropolis Mall Larnaca+ Riverland Farm in Kampia
DESCRIPTION:Aesthetics and hairdressing students of CDA College Nicosia visited the Riverland Farm in Kampia and played an archery match\nThe students had the opportunity to get in touch with nature\, try products produced by the farm and learn archery. \nMoreover students of Larnaca visited the Metropolis Mall Larnaca.
URL:https://www.cdacollege.ac.cy/event/day-of-free-activities-metropolis-mall-larnaca/
LOCATION:CDA Larnaca Campus\, 5\, Loukis Akritas\, 2nd Floor\, Acropolis Square\, P.O.Box 40426\, CY-6304\, Larnaca\, Cyprus
END:VEVENT
BEGIN:VEVENT
DTSTART;TZID=UTC:20211111T090000
DTEND;TZID=UTC:20211111T230000
DTSTAMP:20260422T145250
CREATED:20211210T105218Z
LAST-MODIFIED:20211210T105218Z
UID:9692-1636621200-1636671600@www.cdacollege.ac.cy
SUMMARY:Presentation of the company MUK
DESCRIPTION:The Students of the Hairdressing CDA Limassol attended a presentation of professional hairdressing products of the company MUK. Also on the same day a micro needling application was made.
URL:https://www.cdacollege.ac.cy/event/presentation-of-the-company-muk/
LOCATION:CDA Limassol Campus\, 2\, Kritona Tornariti P.O.Box 70114\, CY-3110\, Limassol\, Cyprus
END:VEVENT
END:VCALENDAR