BEGIN:VCALENDAR
VERSION:2.0
PRODID:-//CDA College - ECPv5.12.2//NONSGML v1.0//EN
CALSCALE:GREGORIAN
METHOD:PUBLISH
X-WR-CALNAME:CDA College
X-ORIGINAL-URL:https://www.cdacollege.ac.cy
X-WR-CALDESC:Events for CDA College
REFRESH-INTERVAL;VALUE=DURATION:PT1H
X-Robots-Tag:noindex
X-PUBLISHED-TTL:PT1H
BEGIN:VTIMEZONE
TZID:UTC
BEGIN:STANDARD
TZOFFSETFROM:+0000
TZOFFSETTO:+0000
TZNAME:UTC
DTSTART:20210101T000000
END:STANDARD
END:VTIMEZONE
BEGIN:VEVENT
DTSTART;TZID=UTC:20211011T080000
DTEND;TZID=UTC:20211222T170000
DTSTAMP:20260422T180950
CREATED:20211209T105838Z
LAST-MODIFIED:20211209T105838Z
UID:9589-1633939200-1640192400@www.cdacollege.ac.cy
SUMMARY:Collaboration with the Cyprus Association of Cancer Patients and Friends (PASYKAF)
DESCRIPTION:Participation in the PASYKAF fundraiser\nThe CDA College Nicosia participated in the 30th Campaign of Information and Financial Support of PASYKAF and a delegation of hairdressing students\, along with their professor Christos Kyriacou\, participated voluntarily in the fundraise. \nMoreover\, the Student Welfare Office sells the year ‘2022’ Charm which is Available with a red or black cord
URL:https://www.cdacollege.ac.cy/event/collaboration-with-the-cyprus-association-of-cancer-patients-and-friends-pasykaf/
LOCATION:CDA Nicosia Campus\, 2\, Evagorou Ave. Eleftherias Square\, P.O.Box 21972\, CY-1515.\, Nicosia\, Cyprus
END:VEVENT
BEGIN:VEVENT
DTSTART;TZID=UTC:20211019T080000
DTEND;TZID=UTC:20211019T080000
DTSTAMP:20260422T180950
CREATED:20211209T103335Z
LAST-MODIFIED:20211209T103335Z
UID:9583-1634630400-1634630400@www.cdacollege.ac.cy
SUMMARY:Presentation by Terra Cypria
DESCRIPTION:Presentation by Terra Cypria – the Cyprus Foundation for the Protection of the Environment – at the academic institutions of Paphos – on 19/10/21 in the framework of the European project “Pandoteira”. \nThe aim is to maintain and manage the European Ecological Network Natura 2000\, which includes protected natural areas for species of flora\, fauna\, birds and habitats.
URL:https://www.cdacollege.ac.cy/event/presentation-by-terra-cypria/
LOCATION:CDA Paphos Campus\, Democratias Anenue 73\, CY 8028\, Paphos\, Cyprus
END:VEVENT
BEGIN:VEVENT
DTSTART;TZID=UTC:20211019T080000
DTEND;TZID=UTC:20211019T170000
DTSTAMP:20260422T180950
CREATED:20211209T100939Z
LAST-MODIFIED:20211209T100939Z
UID:9581-1634630400-1634662800@www.cdacollege.ac.cy
SUMMARY:Conduct of research of the Cyprus Addictions Authority
DESCRIPTION:Participation of our students  in the conduct of research on “Research among students of state and private universities on the use of addictive substances and other addictive behaviors”. \nThe research was carried out by the Cyprus Addictions Authority (AAEK).
URL:https://www.cdacollege.ac.cy/event/conduct-of-research-of-the-cyprus-addictions-authority/
LOCATION:CDA College
END:VEVENT
END:VCALENDAR