BEGIN:VCALENDAR
VERSION:2.0
PRODID:-//CDA College - ECPv5.12.2//NONSGML v1.0//EN
CALSCALE:GREGORIAN
METHOD:PUBLISH
X-WR-CALNAME:CDA College
X-ORIGINAL-URL:https://www.cdacollege.ac.cy
X-WR-CALDESC:Events for CDA College
REFRESH-INTERVAL;VALUE=DURATION:PT1H
X-Robots-Tag:noindex
X-PUBLISHED-TTL:PT1H
BEGIN:VTIMEZONE
TZID:UTC
BEGIN:STANDARD
TZOFFSETFROM:+0000
TZOFFSETTO:+0000
TZNAME:UTC
DTSTART:20210101T000000
END:STANDARD
END:VTIMEZONE
BEGIN:VEVENT
DTSTART;TZID=UTC:20210928T190000
DTEND;TZID=UTC:20210929T190000
DTSTAMP:20260422T183059
CREATED:20211213T105426Z
LAST-MODIFIED:20211213T105426Z
UID:10072-1632855600-1632942000@www.cdacollege.ac.cy
SUMMARY:General Session of Administrative and Academic Staff
DESCRIPTION:On 28 and 29 September 2021\, the General Sessions of the Administrative and Academic Staff were held online through the Moodle platform.
URL:https://www.cdacollege.ac.cy/event/general-session-of-administrative-and-academic-staff/
LOCATION:CDA College
END:VEVENT
BEGIN:VEVENT
DTSTART;TZID=UTC:20210929T080000
DTEND;TZID=UTC:20210929T170000
DTSTAMP:20260422T183059
CREATED:20211209T094445Z
LAST-MODIFIED:20211209T094445Z
UID:9568-1632902400-1632934800@www.cdacollege.ac.cy
SUMMARY:Welcome of new students
DESCRIPTION:Welcome of new students and acquaintance before the beginning of the academic year 2021/22
URL:https://www.cdacollege.ac.cy/event/welcome-of-new-students/
LOCATION:CDA Larnaca Campus\, 5\, Loukis Akritas\, 2nd Floor\, Acropolis Square\, P.O.Box 40426\, CY-6304\, Larnaca\, Cyprus
END:VEVENT
END:VCALENDAR