BEGIN:VCALENDAR
VERSION:2.0
PRODID:-//CDA College - ECPv5.12.2//NONSGML v1.0//EN
CALSCALE:GREGORIAN
METHOD:PUBLISH
X-WR-CALNAME:CDA College
X-ORIGINAL-URL:https://www.cdacollege.ac.cy/el/
X-WR-CALDESC:Events for CDA College
REFRESH-INTERVAL;VALUE=DURATION:PT1H
X-Robots-Tag:noindex
X-PUBLISHED-TTL:PT1H
BEGIN:VTIMEZONE
TZID:UTC
BEGIN:STANDARD
TZOFFSETFROM:+0000
TZOFFSETTO:+0000
TZNAME:UTC
DTSTART:20210101T000000
END:STANDARD
END:VTIMEZONE
BEGIN:VEVENT
DTSTART;TZID=UTC:20210928T190000
DTEND;TZID=UTC:20210929T190000
DTSTAMP:20260423T104639
CREATED:20220726T071155Z
LAST-MODIFIED:20220726T071155Z
UID:12039-1632855600-1632942000@www.cdacollege.ac.cy
SUMMARY:Γενική σύνοδος του διοικητικού και ακαδημαϊκού προσωπικού
DESCRIPTION:Στις 28 και 29 Σεπτεμβρίου 2021\, οι γενικές συνεδριάσεις του διοικητικού και ακαδημαϊκού προσωπικού πραγματοποιήθηκαν ηλεκτρονικά μέσω της πλατφόρμας Moodle.
URL:https://www.cdacollege.ac.cy/el/event/%ce%b3%ce%b5%ce%bd%ce%b9%ce%ba%ce%ae-%cf%83%cf%8d%ce%bd%ce%bf%ce%b4%ce%bf%cf%82-%cf%84%ce%bf%cf%85-%ce%b4%ce%b9%ce%bf%ce%b9%ce%ba%ce%b7%cf%84%ce%b9%ce%ba%ce%bf%cf%8d-%ce%ba%ce%b1%ce%b9-%ce%b1%ce%ba/
LOCATION:CDA College
END:VEVENT
BEGIN:VEVENT
DTSTART;TZID=UTC:20211008T080000
DTEND;TZID=UTC:20211010T170000
DTSTAMP:20260423T104639
CREATED:20220726T071157Z
LAST-MODIFIED:20220726T071157Z
UID:12055-1633680000-1633885200@www.cdacollege.ac.cy
SUMMARY:Συμμετοχή στην 5η Διεθνή Έκθεση Εξοπλισμού Γραφείων Τελετών και Κοιμητηρίων
DESCRIPTION:Το CDA College συμμετείχε με επιτυχία στην 5η Διεθνή Έκθεση Εξοπλισμού Γραφείων Τελετών και Κοιμητηρίων\, στην Αθήνα στις 8-10 Οκτωβρίου 2021.
URL:https://www.cdacollege.ac.cy/el/event/%cf%83%cf%85%ce%bc%ce%bc%ce%b5%cf%84%ce%bf%cf%87%ce%ae-%cf%83%cf%84%ce%b7%ce%bd-5%ce%b7-%ce%b4%ce%b9%ce%b5%ce%b8%ce%bd%ce%ae-%ce%ad%ce%ba%ce%b8%ce%b5%cf%83%ce%b7-%ce%b5%ce%be%ce%bf%cf%80%ce%bb%ce%b9/
LOCATION:CDA College
END:VEVENT
BEGIN:VEVENT
DTSTART;TZID=UTC:20211019T080000
DTEND;TZID=UTC:20211019T170000
DTSTAMP:20260423T104639
CREATED:20220726T071158Z
LAST-MODIFIED:20220726T071158Z
UID:12063-1634630400-1634662800@www.cdacollege.ac.cy
SUMMARY:Διεξαγωγή έρευνας της Αρχής Εξαρτήσεων Κύπρου
DESCRIPTION:Συμμετοχή των φοιτητών μας στη διεξαγωγή έρευνας με θέμα: “Έρευνα μεταξύ των φοιτητών κρατικών και ιδιωτικών πανεπιστημίων σχετικά με τη χρήση εξαρτησιογόνων ουσιών και άλλων εθιστικών συμπεριφορών”. \nΗ έρευνα διεξήχθη από την Αρχή Εξαρτήσεων Κύπρου (ΑΑΕΚ).
URL:https://www.cdacollege.ac.cy/el/event/%ce%b4%ce%b9%ce%b5%ce%be%ce%b1%ce%b3%cf%89%ce%b3%ce%ae-%ce%ad%cf%81%ce%b5%cf%85%ce%bd%ce%b1%cf%82-%cf%84%ce%b7%cf%82-%ce%b1%cf%81%cf%87%ce%ae%cf%82-%ce%b5%ce%be%ce%b1%cf%81%cf%84%ce%ae%cf%83%ce%b5/
LOCATION:CDA College
END:VEVENT
BEGIN:VEVENT
DTSTART;TZID=UTC:20211105T080000
DTEND;TZID=UTC:20211105T130000
DTSTAMP:20260423T104639
CREATED:20220726T071157Z
LAST-MODIFIED:20220726T071157Z
UID:12053-1636099200-1636117200@www.cdacollege.ac.cy
SUMMARY:Το C.D.A College ανακοινώνει μια νέα συνεργασία με το PAMEUNi.
DESCRIPTION:Το C.D.A College ανακοινώνει με υπερηφάνεια μια νέα συνεργασία με την PAMEUNi.\n \n\nΤο PAMEUNi είναι η κορυφαία πλατφόρμα εκπτώσεων για φοιτητές στην Κύπρο. Οι φοιτητές και οι σπουδαστές μπορούν να απολαμβάνουν εκπτώσεις σε διάφορα καταστήματα στην Κύπρο.\n \n\nPAMEUNi\, Εγγραφείτε δωρεάν και αποκτήστε πρόσβαση σε πολλές φοιτητικές εκπτώσεις και προσφορές!\nΕίστε μόνο τρία βήματα μακριά από την ένταξή σας σε αυτή τη νέα φοιτητική εμπειρία:\nΒήμα 1: Επισκεφθείτε την ιστοσελίδα του PAMEUNi www.pameuni.com ή κατεβάστε την εφαρμογή στο κινητό σας τηλέφωνο (η εφαρμογή είναι διαθέσιμη στο App Store και στο Google Play).\nΒήμα 2: Δημιουργήστε το λογαριασμό σας χρησιμοποιώντας το προσωπικό σας email.\nΒήμα 3: Ψωνίστε & εξοικονομήστε χρήματα!\n\n              https://www.facebook.com/pameuni/videos/1048849255908644/\n            \n \n\n\n              https://fb.watch/94T0A2c83X/
URL:https://www.cdacollege.ac.cy/el/event/%cf%84%ce%bf-c-d-a-college-%ce%b1%ce%bd%ce%b1%ce%ba%ce%bf%ce%b9%ce%bd%cf%8e%ce%bd%ce%b5%ce%b9-%ce%bc%ce%b9%ce%b1-%ce%bd%ce%ad%ce%b1-%cf%83%cf%85%ce%bd%ce%b5%cf%81%ce%b3%ce%b1%cf%83%ce%af%ce%b1-%ce%bc/
LOCATION:CDA College
END:VEVENT
BEGIN:VEVENT
DTSTART;TZID=UTC:20211130T080000
DTEND;TZID=UTC:20211130T170000
DTSTAMP:20260423T104639
CREATED:20220726T071217Z
LAST-MODIFIED:20220726T071217Z
UID:12090-1638259200-1638291600@www.cdacollege.ac.cy
SUMMARY:Νέα συμφωνία για το πρόγραμμα Erasmus+
DESCRIPTION:Νέα συμφωνία για το πρόγραμμα Erasmus+\nΤο CDA College υπέγραψε διοργανική συμφωνία με το ακαδημαϊκό ίδρυμα PWSTE w Jarosławiu στην Πολωνία για το πρόγραμμα αισθητικής. Στο πλαίσιο αυτό\, οι φοιτητές\, οι καθηγητές και το προσωπικό θα μπορούν να συμμετέχουν σε κινητικότητα και να αποκτούν μοναδικές εμπειρίες. Οι αιτήσεις εκδήλωσης ενδιαφέροντος πρέπει να υποβληθούν έως τις 15 Δεκεμβρίου 2021 για το εαρινό εξάμηνο 2022 στον υπεύθυνο Erasmus της πόλης σας.
URL:https://www.cdacollege.ac.cy/el/event/%ce%bd%ce%ad%ce%b1-%cf%83%cf%85%ce%bc%cf%86%cf%89%ce%bd%ce%af%ce%b1-%ce%b3%ce%b9%ce%b1-%cf%84%ce%bf-%cf%80%cf%81%cf%8c%ce%b3%cf%81%ce%b1%ce%bc%ce%bc%ce%b1-erasmus/
LOCATION:CDA College
END:VEVENT
END:VCALENDAR