BEGIN:VCALENDAR
VERSION:2.0
PRODID:-//CDA College - ECPv5.12.2//NONSGML v1.0//EN
CALSCALE:GREGORIAN
METHOD:PUBLISH
X-WR-CALNAME:CDA College
X-ORIGINAL-URL:https://www.cdacollege.ac.cy/el/
X-WR-CALDESC:Events for CDA College
REFRESH-INTERVAL;VALUE=DURATION:PT1H
X-Robots-Tag:noindex
X-PUBLISHED-TTL:PT1H
BEGIN:VTIMEZONE
TZID:UTC
BEGIN:STANDARD
TZOFFSETFROM:+0000
TZOFFSETTO:+0000
TZNAME:UTC
DTSTART:20210101T000000
END:STANDARD
END:VTIMEZONE
BEGIN:VEVENT
DTSTART;TZID=UTC:20211025T080000
DTEND;TZID=UTC:20211029T170000
DTSTAMP:20260423T090157
CREATED:20220726T071218Z
LAST-MODIFIED:20220726T071218Z
UID:12099-1635148800-1635526800@www.cdacollege.ac.cy
SUMMARY:3η LTTA του προγράμματος Erasmus+ "Κοινωνική επιχειρηματικότητα για την καταπολέμηση της κοινωνικής εκδρομής (SENEET)
DESCRIPTION:η τρίτη κατάρτιση #LLTA στο πλαίσιο του έργου “Κοινωνική επιχειρηματικότητα για την καταπολέμηση του κοινωνικού αποκλεισμού των νέων” – S.E. NEET\, που χρηματοδοτείται από το πρόγραμμα Erasmus+\, πραγματοποιήθηκε στην Κύπρο από τις 25 έως τις 29 Οκτωβρίου. Συμμετείχαν νέοι\, με επικεφαλής εκπροσώπους των εταίρων του έργου από την Κύπρο\, την Ελλάδα\, τη Ρουμανία\, τη Λιθουανία και \n  Θερμοκοιτίδα επιχειρήσεων – Gotse Delchev\n Θερμοκοιτίδα Επιχειρήσεων – Gotse Delchev από τη Βουλγαρία. Οι οικοδεσπότες – C.D.A.College\, Λευκωσία – παρείχαν όλες τις απαραίτητες συνθήκες για να έχουν μια γόνιμη εργασία\, τηρώντας αυστηρά μέτρα κατά της επιδημίας. Κατά τη διάρκεια της πενθήμερης κατάρτισης\, οι νέοι απέκτησαν θεμελιώδεις γνώσεις σχετικά με το πώς να ξεκινήσουν μια νέα επιχείρηση\, πώς να μετατρέψουν μια ιδέα σε επιχείρηση\, τη χρηματοοικονομική διαχείριση και τα κύρια βήματα που απαιτούνται για να ξεκινήσει ένας επιχειρηματίας τη δική του επιχείρηση. Οι νέοι συνάντησαν τοπικούς επιχειρηματίες που μοιράστηκαν τις εμπειρίες και τις προκλήσεις τους στον επιχειρηματικό τομέα. \n\nΗ ομάδα #SENEET επισκέφθηκε τη βιοτεχνία Souzana Petri στην οδό Ερμού στην παλιά πόλη της Λευκωσίας.\n\n\nΜοιράστηκε μαζί μας την εμπειρία της ως νέα επιχειρηματίας και πώς καταφέρνει να ισορροπεί μεταξύ δημιουργικότητας και λειτουργίας μιας επιχείρησης.\n\nΟ Γιάννης Χατζηκωνσταντούρας ήταν ο προσκεκλημένος ομιλητής στο 3ο LTTA του προγράμματος Erasmus+ “Κοινωνική επιχειρηματικότητα για την καταπολέμηση του κοινωνικού αποκλεισμού των νέων”\, κατά τη διάρκεια του οποίου μοιράστηκε την εμπειρία και τις γνώσεις του σχετικά με το να είσαι νέος επιχειρηματίας\, τις προκλήσεις που αντιμετώπισε και την εφαρμογή καλών πρακτικών στον τομέα της επιχειρηματικότητας. \nΑκολουθώντας την καθοδήγηση των ηγετών τους\, οι μικτές ομάδες συμμετεχόντων σχεδίασαν το δικό τους λογότυπο και το όνομα της εταιρείας τους και “ξεκίνησαν” τη δική τους διαδικτυακή επιχείρηση. Για όλους τους συμμετέχοντες οργανώθηκε μονοήμερη επίσκεψη στα Λεύκαρα\, ένα όμορφο και γραφικό χωριό γνωστό για τη χειροποίητη τοπική δαντέλα\, γνωστή ως “λευκαρίτα” και τα ασημικά της. Στο τέλος της συνάντησης παρουσιάστηκαν τα αποτελέσματα των εργασιών των ομάδων και οι συμμετέχοντες έλαβαν πιστοποιητικά. Γύρισαν στο σπίτι τους με νέες χρήσιμες γνώσεις\, ωραίες αναμνήσεις και ενδιαφέρουσες γνωριμίες.
URL:https://www.cdacollege.ac.cy/el/event/3%ce%b7-ltta-%cf%84%ce%bf%cf%85-%cf%80%cf%81%ce%bf%ce%b3%cf%81%ce%ac%ce%bc%ce%bc%ce%b1%cf%84%ce%bf%cf%82-erasmus-%ce%ba%ce%bf%ce%b9%ce%bd%cf%89%ce%bd%ce%b9%ce%ba%ce%ae-%ce%b5%cf%80%ce%b9%cf%87/
LOCATION:Πανεπιστημιούπολη CDA Λευκωσία\, 2\, Λεωφόρος Ευαγόρου. Πλατεία Ελευθερίας\, Τ.Θ. 21972\, CY-1515.\, Λευκωσία\, Cyprus
END:VEVENT
END:VCALENDAR